BEGIN:VCALENDAR
VERSION:2.0
CALSCALE:GREGORIAN
PRODID:adamgibbons/ics
METHOD:PUBLISH
X-WR-CALNAME:Calendrier queer
X-PUBLISHED-TTL:PT1H
BEGIN:VEVENT
UID:1aa4cc87f6012256e2a721c8470a4fbc15a017a4@pronouns.page
SUMMARY:Journée de dépistage au VIH des transgenres
DTSTAMP:20260422T124511Z
DTSTART;VALUE=DATE:20260418
DTEND;VALUE=DATE:20260419
SEQUENCE:1
END:VEVENT
END:VCALENDAR
